BEGIN:VCALENDAR
VERSION:2.0
PRODID:-//Ingeniería Sin Fronteras - ECPv6.15.20//NONSGML v1.0//EN
CALSCALE:GREGORIAN
METHOD:PUBLISH
X-WR-CALNAME:Ingeniería Sin Fronteras
X-ORIGINAL-URL:https://www.isf.es
X-WR-CALDESC:Eventos para Ingeniería Sin Fronteras
REFRESH-INTERVAL;VALUE=DURATION:PT1H
X-Robots-Tag:noindex
X-PUBLISHED-TTL:PT1H
BEGIN:VTIMEZONE
TZID:Europe/Madrid
BEGIN:DAYLIGHT
TZOFFSETFROM:+0100
TZOFFSETTO:+0200
TZNAME:CEST
DTSTART:20240331T010000
END:DAYLIGHT
BEGIN:STANDARD
TZOFFSETFROM:+0200
TZOFFSETTO:+0100
TZNAME:CET
DTSTART:20241027T010000
END:STANDARD
BEGIN:DAYLIGHT
TZOFFSETFROM:+0100
TZOFFSETTO:+0200
TZNAME:CEST
DTSTART:20250330T010000
END:DAYLIGHT
BEGIN:STANDARD
TZOFFSETFROM:+0200
TZOFFSETTO:+0100
TZNAME:CET
DTSTART:20251026T010000
END:STANDARD
BEGIN:DAYLIGHT
TZOFFSETFROM:+0100
TZOFFSETTO:+0200
TZNAME:CEST
DTSTART:20260329T010000
END:DAYLIGHT
BEGIN:STANDARD
TZOFFSETFROM:+0200
TZOFFSETTO:+0100
TZNAME:CET
DTSTART:20261025T010000
END:STANDARD
END:VTIMEZONE
BEGIN:VEVENT
DTSTART;TZID=Europe/Madrid:20250806T210000
DTEND;TZID=Europe/Madrid:20250806T210000
DTSTAMP:20260423T161028
CREATED:20250805T142944Z
LAST-MODIFIED:20250805T144135Z
UID:73918-1754514000-1754514000@www.isf.es
SUMMARY:Conmemoracion bombardeos Hiroshima y Nagasaki
DESCRIPTION:La Asamblea Antinuclear de Córdoba denunciamos las catastróficas consecuencias del rearme internacional y el genocidio del pueblo palestino en el 80 aniversario del bombardeo atómico de Hiroshima y Nagasaki. \nLa entrada Conmemoracion bombardeos Hiroshima y Nagasaki aparece primero en ISF Andalucia. \nLeer más
URL:https://www.isf.es/event/conmemoracion-bombardeos-hiroshima-y-nagasaki/
ATTACH;FMTTYPE=image/png:https://www.isf.es/wp-content/uploads/2025/08/250806-hiroshimanagasaki-HkGlar.png
END:VEVENT
END:VCALENDAR