BEGIN:VCALENDAR
VERSION:2.0
PRODID:-//Ingeniería Sin Fronteras - ECPv6.15.20//NONSGML v1.0//EN
CALSCALE:GREGORIAN
METHOD:PUBLISH
X-WR-CALNAME:Ingeniería Sin Fronteras
X-ORIGINAL-URL:https://www.isf.es
X-WR-CALDESC:Eventos para Ingeniería Sin Fronteras
REFRESH-INTERVAL;VALUE=DURATION:PT1H
X-Robots-Tag:noindex
X-PUBLISHED-TTL:PT1H
BEGIN:VTIMEZONE
TZID:Europe/Madrid
BEGIN:DAYLIGHT
TZOFFSETFROM:+0100
TZOFFSETTO:+0200
TZNAME:CEST
DTSTART:20240331T010000
END:DAYLIGHT
BEGIN:STANDARD
TZOFFSETFROM:+0200
TZOFFSETTO:+0100
TZNAME:CET
DTSTART:20241027T010000
END:STANDARD
BEGIN:DAYLIGHT
TZOFFSETFROM:+0100
TZOFFSETTO:+0200
TZNAME:CEST
DTSTART:20250330T010000
END:DAYLIGHT
BEGIN:STANDARD
TZOFFSETFROM:+0200
TZOFFSETTO:+0100
TZNAME:CET
DTSTART:20251026T010000
END:STANDARD
BEGIN:DAYLIGHT
TZOFFSETFROM:+0100
TZOFFSETTO:+0200
TZNAME:CEST
DTSTART:20260329T010000
END:DAYLIGHT
BEGIN:STANDARD
TZOFFSETFROM:+0200
TZOFFSETTO:+0100
TZNAME:CET
DTSTART:20261025T010000
END:STANDARD
END:VTIMEZONE
BEGIN:VEVENT
DTSTART;TZID=Europe/Madrid:20250610T150000
DTEND;TZID=Europe/Madrid:20250610T200000
DTSTAMP:20260424T010728
CREATED:20250605T072423Z
LAST-MODIFIED:20250605T072423Z
UID:73418-1749567600-1749585600@www.isf.es
SUMMARY:Jornada de Diàleg: Dret a un medi ambient sense riscos\, net\, saludable i sostenible
DESCRIPTION:ESF Tarragona organitza un espai obert de participació per reflexionar col·lectivament sobre els principals reptes ambientals del territori. La jornada inclou dinàmiques participatives\, grups de treball i debat obert per identificar greuges\, generar propostes i construir compromisos compartits en defensa del dret a un medi ambient saludable. \nL’entrada Jornada de Diàleg: Dret a un medi ambient sense riscos\, net\, saludable i sostenible ha aparegut primer a ESF. \nLeer más
URL:https://www.isf.es/event/jornada-de-dialeg-dret-a-un-medi-ambient-sense-riscos-net-saludable-i-sostenible/
LOCATION:Sala de Juntes – Campus Catalunya\, URV (Tarragona)
ATTACH;FMTTYPE=image/png:https://www.isf.es/wp-content/uploads/2025/05/Jornada-Dialeg-10-juny-ESF-Tarragona-POkxDK.png
END:VEVENT
BEGIN:VEVENT
DTSTART;TZID=Europe/Madrid:20250611T180000
DTEND;TZID=Europe/Madrid:20250611T180000
DTSTAMP:20260424T010728
CREATED:20250609T090328Z
LAST-MODIFIED:20250616T163304Z
UID:73472-1749664800-1749664800@www.isf.es
SUMMARY:[GUK GEUK EGIN LAB] Taller de reparación de pequeños electrodomésticos
DESCRIPTION:El próximo 11 de junio realizaremos un taller para aprender a reparar pequeños electrodomésticos. ¡Frente a la obsolescencia programada\, aprendamos juntas a darles una segunda vida! ¡Tráete el tuyo! Inscripciones… \n\n\n\nLa entrada [ GUK GEUK EGIN LAB] Taller de reparación de pequeños electrodomésticos aparece primero en Ingeniería Sin Fronteras Euskadi – ISF Euskadi. \n\n\n\nLeer más
URL:https://www.isf.es/event/guk-geuk-egin-lab-taller-de-reparacion-de-pequenos-electrodomesticos/
LOCATION:Escuela de Ingeniería de Bilbao\, aula P3M2A
ATTACH;FMTTYPE=image/png:https://www.isf.es/wp-content/uploads/2025/06/image-1-EZv8HY.png
END:VEVENT
BEGIN:VEVENT
DTSTART;TZID=Europe/Madrid:20250624T173000
DTEND;TZID=Europe/Madrid:20250624T173000
DTSTAMP:20260424T010728
CREATED:20250608T174531Z
LAST-MODIFIED:20250617T095527Z
UID:73475-1750786200-1750786200@www.isf.es
SUMMARY:Traemos de vuelta la charla Entendiendo la Factura de la Luz: tráete la tuya el 24 de Junio por la tarde
DESCRIPTION:En esta charla\, analizaremos el funcionamiento del sistema energético en España\, así como las causas y consecuencias de la pobreza energética. También abordaremos las medidas que se pueden implementar para prevenirla y exploraremos alternativas a nivel individual\, colectivo y estatal para combatir este problema. \nLa entrada Traemos de vuelta la charla Entendiendo la Factura de la Luz: tráete la tuya el 24 de Junio por la tarde aparece primero en ISF Aragón. \nLeer más
URL:https://www.isf.es/event/traemos-de-vuelta-la-charla-entendiendo-la-factura-de-la-luz-traete-la-tuya-el-24-de-junio-por-la-tarde/
LOCATION:Asoociación Vecinal Tio Jorge (Zaragoza)
ATTACH;FMTTYPE=image/jpeg:https://www.isf.es/wp-content/uploads/2025/06/Charla-ingenieria-sin-fronteras-26-Oct-scaled-J8WQXb.jpg
END:VEVENT
BEGIN:VEVENT
DTSTART;TZID=Europe/Madrid:20250625T180000
DTEND;TZID=Europe/Madrid:20250625T180000
DTSTAMP:20260424T010728
CREATED:20250616T163057Z
LAST-MODIFIED:20250616T163129Z
UID:73510-1750874400-1750874400@www.isf.es
SUMMARY:VEUS DE L’AIGUA #4 – L’impacte de l’espoli d’aigua del Siurana en el territori
DESCRIPTION:El cicle de conferències en línia “Veus de l’Aigua”\, organitzat en el marc…\nL’entrada VEUS DE L’AIGUA #4 – L’impacte de l’espoli d’aigua del Siurana en el territori ha aparegut primer a ESF. \nLeer más
URL:https://www.isf.es/event/veus-de-laigua-4-limpacte-de-lespoli-daigua-del-siurana-en-el-territori/
LOCATION:Online
ATTACH;FMTTYPE=image/jpeg:https://www.isf.es/wp-content/uploads/2025/06/Espoli-Aigua-Siurana-ESF-AeV-8tGWF5.jpg
END:VEVENT
END:VCALENDAR