BEGIN:VCALENDAR
VERSION:2.0
PRODID:-//Ingeniería Sin Fronteras - ECPv6.15.20//NONSGML v1.0//EN
CALSCALE:GREGORIAN
METHOD:PUBLISH
X-ORIGINAL-URL:https://www.isf.es
X-WR-CALDESC:Eventos para Ingeniería Sin Fronteras
REFRESH-INTERVAL;VALUE=DURATION:PT1H
X-Robots-Tag:noindex
X-PUBLISHED-TTL:PT1H
BEGIN:VTIMEZONE
TZID:Europe/Madrid
BEGIN:DAYLIGHT
TZOFFSETFROM:+0100
TZOFFSETTO:+0200
TZNAME:CEST
DTSTART:20240331T010000
END:DAYLIGHT
BEGIN:STANDARD
TZOFFSETFROM:+0200
TZOFFSETTO:+0100
TZNAME:CET
DTSTART:20241027T010000
END:STANDARD
BEGIN:DAYLIGHT
TZOFFSETFROM:+0100
TZOFFSETTO:+0200
TZNAME:CEST
DTSTART:20250330T010000
END:DAYLIGHT
BEGIN:STANDARD
TZOFFSETFROM:+0200
TZOFFSETTO:+0100
TZNAME:CET
DTSTART:20251026T010000
END:STANDARD
BEGIN:DAYLIGHT
TZOFFSETFROM:+0100
TZOFFSETTO:+0200
TZNAME:CEST
DTSTART:20260329T010000
END:DAYLIGHT
BEGIN:STANDARD
TZOFFSETFROM:+0200
TZOFFSETTO:+0100
TZNAME:CET
DTSTART:20261025T010000
END:STANDARD
END:VTIMEZONE
BEGIN:VEVENT
DTSTART;TZID=Europe/Madrid:20250513T180000
DTEND;TZID=Europe/Madrid:20250513T180000
DTSTAMP:20260424T054530
CREATED:20250512T101850Z
LAST-MODIFIED:20250512T101947Z
UID:73331-1747159200-1747159200@www.isf.es
SUMMARY:Jornada:  Intercambio de experiencias: Vocaciones LGTBIQA+ en Ciencia y Tecnología
DESCRIPTION:Visibilizar las realidades\, obstáculos y resistencias que enfrenta la comunidad LGTBIQA+ en los espacios científico-tecnológicos lleva siendo un tema de análisis y preocupación para ISF-MGI desde hace años. Por eso\, el próximo martes 13 de mayo\, buscamos compartir subjetividades\, sentires y vivires de toda una comunidad. Queremos generar un espacio de diálogo para desvelar una realidad silenciada y visibilizar vivencias que atravesamos las personas LGTBIQA+ en los campos de la ciencia y la tecnología. \nLa entrada Jornada:  Intercambio de experiencias: Vocaciones LGTBIQA+ en Ciencia y Tecnología aparece primero en Ingeniería Sin Fronteras Euskadi – ISF Euskadi. \nLeer más
URL:https://www.isf.es/event/jornada-intercambio-de-experiencias-vocaciones-lgtbiqa-en-ciencia-y-tecnologia/
LOCATION:Escuela de Ingeniería de Bilbao\, aula P1G3A
ATTACH;FMTTYPE=image/png:https://www.isf.es/wp-content/uploads/2025/05/CABECERA-JORNADA-LGTBI-NgbJBv.png
END:VEVENT
BEGIN:VEVENT
DTSTART;TZID=Europe/Madrid:20250516T140000
DTEND;TZID=Europe/Madrid:20250516T160000
DTSTAMP:20260424T054530
CREATED:20250505T101126Z
LAST-MODIFIED:20250506T121144Z
UID:73321-1747404000-1747411200@www.isf.es
SUMMARY:Debat internacional | Do we need a Global Commission on the Economics of Water to tell us how to value water?
DESCRIPTION:El nostre company Dante Maschio\, membre d’Enginyeria Sense Fronteres i del People’s Water Forum\, participarà com a ponent al debat internacional “Do we need the Global Commission on the Economics of Water to value water?”\, organitzat per la xarxa Just Water Futures. \nL’entrada Debat internacional | Do we need a Global Commission on the Economics of Water to tell us how to value water? ha aparegut primer a ESF. \nLeer más
URL:https://www.isf.es/event/debat-internacional-do-we-need-a-global-commission-on-the-economics-of-water-to-tell-us-how-to-value-water/
LOCATION:Online
ATTACH;FMTTYPE=image/jpeg:https://www.isf.es/wp-content/uploads/2025/05/obie-fernandez-izgPlIB88Ww-unsplash-c1F5Kl.jpg
END:VEVENT
BEGIN:VEVENT
DTSTART;TZID=Europe/Madrid:20250521T180000
DTEND;TZID=Europe/Madrid:20250521T180000
DTSTAMP:20260424T054530
CREATED:20250515T080820Z
LAST-MODIFIED:20250519T150043Z
UID:73346-1747850400-1747850400@www.isf.es
SUMMARY:VEUS DE L’AIGUA #3 – Per què cal una gestió pública de l’aigua?
DESCRIPTION:El cicle de conferències en línia “Veus de l’Aigua”\, organitzat en el marc de la Cimera Social de l’Aigua\, té l’objectiu de crear un espai comú de reflexió i formació per aprofundir en els reptes ambientals i socials relacionats amb la gestió de l’aigua a Catalunya. \nL’entrada VEUS DE L’AIGUA #3 – Per què cal una gestió pública de l’aigua? ha aparegut primer a ESF. \nLeer más
URL:https://www.isf.es/event/veus-de-laigua-3-per-que-cal-una-gestio-publica-de-laigua/
LOCATION:Online
ATTACH;FMTTYPE=image/jpeg:https://www.isf.es/wp-content/uploads/2025/05/VeusDelAigua_maig-B2Kmxp.jpg
END:VEVENT
END:VCALENDAR