BEGIN:VCALENDAR
VERSION:2.0
PRODID:-//Ingeniería Sin Fronteras - ECPv6.15.20//NONSGML v1.0//EN
CALSCALE:GREGORIAN
METHOD:PUBLISH
X-WR-CALNAME:Ingeniería Sin Fronteras
X-ORIGINAL-URL:https://www.isf.es
X-WR-CALDESC:Eventos para Ingeniería Sin Fronteras
REFRESH-INTERVAL;VALUE=DURATION:PT1H
X-Robots-Tag:noindex
X-PUBLISHED-TTL:PT1H
BEGIN:VTIMEZONE
TZID:Europe/Madrid
BEGIN:DAYLIGHT
TZOFFSETFROM:+0100
TZOFFSETTO:+0200
TZNAME:CEST
DTSTART:20230326T010000
END:DAYLIGHT
BEGIN:STANDARD
TZOFFSETFROM:+0200
TZOFFSETTO:+0100
TZNAME:CET
DTSTART:20231029T010000
END:STANDARD
BEGIN:DAYLIGHT
TZOFFSETFROM:+0100
TZOFFSETTO:+0200
TZNAME:CEST
DTSTART:20240331T010000
END:DAYLIGHT
BEGIN:STANDARD
TZOFFSETFROM:+0200
TZOFFSETTO:+0100
TZNAME:CET
DTSTART:20241027T010000
END:STANDARD
BEGIN:DAYLIGHT
TZOFFSETFROM:+0100
TZOFFSETTO:+0200
TZNAME:CEST
DTSTART:20250330T010000
END:DAYLIGHT
BEGIN:STANDARD
TZOFFSETFROM:+0200
TZOFFSETTO:+0100
TZNAME:CET
DTSTART:20251026T010000
END:STANDARD
END:VTIMEZONE
BEGIN:VEVENT
DTSTART;TZID=Europe/Madrid:20240604T180000
DTEND;TZID=Europe/Madrid:20240604T180000
DTSTAMP:20260423T161028
CREATED:20240603T155416Z
LAST-MODIFIED:20240603T155441Z
UID:72261-1717524000-1717524000@www.isf.es
SUMMARY:Charla | Dinámicas de género en el sector energético
DESCRIPTION:Dinámicas de género en el sector energético ⚡️ Llega la #SetmanaEnergiaCoop 💡 Desde\nL’entrada Charla | Dinámicas de género en el sector energético ha aparegut primer a ESF. \nEvento completo en la web Arxiu de Esdeveniments – ESF: Leer más
URL:https://www.isf.es/event/charla-dinamicas-de-genero-en-el-sector-energetico/
LOCATION:Bloc4BCN (Barcelona)
ATTACH;FMTTYPE=image/jpeg:https://www.isf.es/wp-content/uploads/2024/05/photo_3_2024-05-29_09-19-05-Xnktyf.jpeg
END:VEVENT
BEGIN:VEVENT
DTSTART;TZID=Europe/Madrid:20240608T103000
DTEND;TZID=Europe/Madrid:20240608T103000
DTSTAMP:20260423T161028
CREATED:20240611T103451Z
LAST-MODIFIED:20240611T103540Z
UID:72283-1717842600-1717842600@www.isf.es
SUMMARY:Jornada sobre comunidades energéticas
DESCRIPTION:Jornadas organizadas por diferentes colectivos de la ciudad de Córdoba para trasladar a la ciudadanía el concepto de comunidad energética y todo lo que implica. Para ello contaremos con experiencias\nLa entrada Jornada sobre comunidades energéticas aparece primero en ISF Andalucia. \nEvento completo en la web Eventos en 8 de junio – 8 de junio – ISF Andalucia: Leer más
URL:https://www.isf.es/event/jornada-sobre-comunidades-energeticas/
LOCATION:Círculo Cultural Juan 23
ATTACH;FMTTYPE=image/jpeg:https://www.isf.es/wp-content/uploads/2024/06/photo_2024-05-21_11-38-40-bFIRvh.jpeg
END:VEVENT
BEGIN:VEVENT
DTSTART;VALUE=DATE:20240618
DTEND;VALUE=DATE:20240621
DTSTAMP:20260423T161028
CREATED:20240618T164529Z
LAST-MODIFIED:20240618T164548Z
UID:72307-1718668800-1718927999@www.isf.es
SUMMARY:VOLT 6 » Desmontando mitos: soluciones para una transición energética ecosocial»
DESCRIPTION:Del 18 al 20 de octubre de 2024. ¡Abrimos inscripciones! ¡Inscríbete ya! No\nL’entrada VOLT 6 » Desmontando mitos: soluciones para una transición energética ecosocial» ha aparegut primer a ESF. \nEvento completo en la web Arxiu de Esdeveniments – ESF: Leer más
URL:https://www.isf.es/event/volt-6-desmontando-mitos-soluciones-para-una-transicion-energetica-ecosocial-2/
LOCATION:Catalunya
ATTACH;FMTTYPE=image/jpeg:https://www.isf.es/wp-content/uploads/2024/06/VOLT6-Xse-7h6kV3.jpeg
END:VEVENT
BEGIN:VEVENT
DTSTART;TZID=Europe/Madrid:20240618T180000
DTEND;TZID=Europe/Madrid:20240618T180000
DTSTAMP:20260423T161028
CREATED:20240603T155723Z
LAST-MODIFIED:20240603T155835Z
UID:72276-1718733600-1718733600@www.isf.es
SUMMARY:Contacontes | «I es va fer la llum»
DESCRIPTION:💡 Apropem la problemàtica de la pobresa energètica als infants i les famílies\nL’entrada Contacontes | «I es va fer la llum» ha aparegut primer a ESF. \nEvento completo en la web Arxiu de Esdeveniments – ESF: Leer más
URL:https://www.isf.es/event/contacontes-i-es-va-fer-la-llum/
LOCATION:Bloc4BCN (Barcelona)
ATTACH;FMTTYPE=image/png:https://www.isf.es/wp-content/uploads/2024/06/cartell-contacontes-VYCHqI.png
END:VEVENT
BEGIN:VEVENT
DTSTART;TZID=Europe/Madrid:20240620T183000
DTEND;TZID=Europe/Madrid:20240620T183000
DTSTAMP:20260423T161028
CREATED:20240611T105231Z
LAST-MODIFIED:20240701T103410Z
UID:72294-1718908200-1718908200@www.isf.es
SUMMARY:Tallers | (De)creixem juntes per l’emergència climàtica
DESCRIPTION:Et convidem a participar en aquest cicle de tallers on coneixerem més sobre\nL’entrada Tallers | (De)creixem juntes per l’emergència climàtica ha aparegut primer a ESF. \nEvento completo en la web Arxiu de Esdeveniments – ESF: Leer más
URL:https://www.isf.es/event/tallers-decreixem-juntes-per-lemergencia-climatica-4/
LOCATION:Espai Jove La Fontana
ATTACH;FMTTYPE=image/jpeg:https://www.isf.es/wp-content/uploads/2024/06/6-g9fedz.jpeg
END:VEVENT
BEGIN:VEVENT
DTSTART;VALUE=DATE:20240627
DTEND;VALUE=DATE:20240629
DTSTAMP:20260423T161028
CREATED:20240603T155654Z
LAST-MODIFIED:20240624T092242Z
UID:72274-1719446400-1719619199@www.isf.es
SUMMARY:Jornades | Defensant el Territori Nord-Sud
DESCRIPTION:🎉 Us anunciem que els dies 27 i 28 de juny es duran\nL’entrada Jornades | Defensant el Territori Nord-Sud ha aparegut primer a ESF. \nEvento completo en la web Arxiu de Esdeveniments – ESF: Leer más
URL:https://www.isf.es/event/jornades-defensant-el-territori-nord-sud/
LOCATION:Ateneu La Base (Barcelona)
ATTACH;FMTTYPE=image/jpeg:https://www.isf.es/wp-content/uploads/2024/06/Adaptacions-2024-Jornades_IG-1080x1080-CAST-0tOGV4.jpeg
END:VEVENT
BEGIN:VEVENT
DTSTART;TZID=Europe/Madrid:20240630T183000
DTEND;TZID=Europe/Madrid:20240630T183000
DTSTAMP:20260423T161028
CREATED:20240624T091909Z
LAST-MODIFIED:20240624T091937Z
UID:72322-1719772200-1719772200@www.isf.es
SUMMARY:Espectacle BWater
DESCRIPTION:🙋‍♀️ L’espectacle BWater a Terrassa per posar en relleu la problemàtica de la\nL’entrada Espectacle BWater ha aparegut primer a ESF. \nEvento completo en la web Arxiu de Esdeveniments – ESF: Leer más
URL:https://www.isf.es/event/espectacle-bwater/
LOCATION:Parc de Vallparadís (Terrassa)
ATTACH;FMTTYPE=image/png:https://www.isf.es/wp-content/uploads/2024/06/BeWater-N0zKEb.png
END:VEVENT
END:VCALENDAR