BEGIN:VCALENDAR
VERSION:2.0
PRODID:-//Ingeniería Sin Fronteras - ECPv6.15.20//NONSGML v1.0//EN
CALSCALE:GREGORIAN
METHOD:PUBLISH
X-ORIGINAL-URL:https://www.isf.es
X-WR-CALDESC:Eventos para Ingeniería Sin Fronteras
REFRESH-INTERVAL;VALUE=DURATION:PT1H
X-Robots-Tag:noindex
X-PUBLISHED-TTL:PT1H
BEGIN:VTIMEZONE
TZID:Europe/Madrid
BEGIN:DAYLIGHT
TZOFFSETFROM:+0100
TZOFFSETTO:+0200
TZNAME:CEST
DTSTART:20230326T010000
END:DAYLIGHT
BEGIN:STANDARD
TZOFFSETFROM:+0200
TZOFFSETTO:+0100
TZNAME:CET
DTSTART:20231029T010000
END:STANDARD
BEGIN:DAYLIGHT
TZOFFSETFROM:+0100
TZOFFSETTO:+0200
TZNAME:CEST
DTSTART:20240331T010000
END:DAYLIGHT
BEGIN:STANDARD
TZOFFSETFROM:+0200
TZOFFSETTO:+0100
TZNAME:CET
DTSTART:20241027T010000
END:STANDARD
BEGIN:DAYLIGHT
TZOFFSETFROM:+0100
TZOFFSETTO:+0200
TZNAME:CEST
DTSTART:20250330T010000
END:DAYLIGHT
BEGIN:STANDARD
TZOFFSETFROM:+0200
TZOFFSETTO:+0100
TZNAME:CET
DTSTART:20251026T010000
END:STANDARD
END:VTIMEZONE
BEGIN:VEVENT
DTSTART;TZID=Europe/Madrid:20240530T190000
DTEND;TZID=Europe/Madrid:20240530T190000
DTSTAMP:20260421T003542
CREATED:20240529T073826Z
LAST-MODIFIED:20240603T155857Z
UID:72264-1717095600-1717095600@www.isf.es
SUMMARY:Autoabastecimiento energético en el valle de Arratia
DESCRIPTION:Ante la actual crisis ecosocialista la transición energética es el elemento central. Es la clave fundamental de la necesaria transformación integral\, donde la energía es la base de  las cadenasLa entrada Autoabastecimiento energético en el valle de Arratia aparece primero en Ingeniería Sin Fronteras Euskadi – ISF Euskadi. \nNoticia completa en la web Ingeniería Sin Fronteras Euskadi – ISF Euskadi: Leer más
URL:https://www.isf.es/event/autoabastecimiento-energetico-en-el-valle-de-arratia/
LOCATION:Casa de la cultura de Igorre
ATTACH;FMTTYPE=image/png:https://www.isf.es/wp-content/uploads/2024/05/ActivistaEskola_Cartel-O9ls2J.png
END:VEVENT
END:VCALENDAR