BEGIN:VCALENDAR
VERSION:2.0
PRODID:-//Ingeniería Sin Fronteras - ECPv6.15.20//NONSGML v1.0//EN
CALSCALE:GREGORIAN
METHOD:PUBLISH
X-ORIGINAL-URL:https://www.isf.es
X-WR-CALDESC:Eventos para Ingeniería Sin Fronteras
REFRESH-INTERVAL;VALUE=DURATION:PT1H
X-Robots-Tag:noindex
X-PUBLISHED-TTL:PT1H
BEGIN:VTIMEZONE
TZID:Europe/Madrid
BEGIN:DAYLIGHT
TZOFFSETFROM:+0100
TZOFFSETTO:+0200
TZNAME:CEST
DTSTART:20230326T010000
END:DAYLIGHT
BEGIN:STANDARD
TZOFFSETFROM:+0200
TZOFFSETTO:+0100
TZNAME:CET
DTSTART:20231029T010000
END:STANDARD
BEGIN:DAYLIGHT
TZOFFSETFROM:+0100
TZOFFSETTO:+0200
TZNAME:CEST
DTSTART:20240331T010000
END:DAYLIGHT
BEGIN:STANDARD
TZOFFSETFROM:+0200
TZOFFSETTO:+0100
TZNAME:CET
DTSTART:20241027T010000
END:STANDARD
BEGIN:DAYLIGHT
TZOFFSETFROM:+0100
TZOFFSETTO:+0200
TZNAME:CEST
DTSTART:20250330T010000
END:DAYLIGHT
BEGIN:STANDARD
TZOFFSETFROM:+0200
TZOFFSETTO:+0100
TZNAME:CET
DTSTART:20251026T010000
END:STANDARD
END:VTIMEZONE
BEGIN:VEVENT
DTSTART;TZID=Europe/Madrid:20240523T180000
DTEND;TZID=Europe/Madrid:20240523T200000
DTSTAMP:20260420T230616
CREATED:20240517T062944Z
LAST-MODIFIED:20240520T105728Z
UID:72186-1716487200-1716494400@www.isf.es
SUMMARY:[CineForo] Extractivismo y Defensa del territorio
DESCRIPTION:Defensa del territorio frente a proyectos mineros y urbanísticos destructivos ¿Recordáis a los líderes comunitarios de Santa Marta que fueron capturados? ¿Habéis escuchado algo sobre el desalojo de Otxantegi? ElLa entrada [CineForo] Extractivismo y Defensa del territorio aparece primero en Ingeniería Sin Fronteras Euskadi – ISF Euskadi. \nNoticia completa en la web Ingeniería Sin Fronteras Euskadi – ISF Euskadi: Leer más
URL:https://www.isf.es/event/cineforo-extractivismo-y-defensa-del-territorio/
LOCATION:Escuela de Ingeniería de Bilbao Aula P1G3
ATTACH;FMTTYPE=image/png:https://www.isf.es/wp-content/uploads/2024/05/2024-CineForo-Sesion3_Cartel-3cQIFt.png
END:VEVENT
END:VCALENDAR