BEGIN:VCALENDAR
VERSION:2.0
PRODID:-//Ingeniería Sin Fronteras - ECPv6.15.20//NONSGML v1.0//EN
CALSCALE:GREGORIAN
METHOD:PUBLISH
X-ORIGINAL-URL:https://www.isf.es
X-WR-CALDESC:Eventos para Ingeniería Sin Fronteras
REFRESH-INTERVAL;VALUE=DURATION:PT1H
X-Robots-Tag:noindex
X-PUBLISHED-TTL:PT1H
BEGIN:VTIMEZONE
TZID:Europe/Madrid
BEGIN:DAYLIGHT
TZOFFSETFROM:+0100
TZOFFSETTO:+0200
TZNAME:CEST
DTSTART:20230326T010000
END:DAYLIGHT
BEGIN:STANDARD
TZOFFSETFROM:+0200
TZOFFSETTO:+0100
TZNAME:CET
DTSTART:20231029T010000
END:STANDARD
BEGIN:DAYLIGHT
TZOFFSETFROM:+0100
TZOFFSETTO:+0200
TZNAME:CEST
DTSTART:20240331T010000
END:DAYLIGHT
BEGIN:STANDARD
TZOFFSETFROM:+0200
TZOFFSETTO:+0100
TZNAME:CET
DTSTART:20241027T010000
END:STANDARD
BEGIN:DAYLIGHT
TZOFFSETFROM:+0100
TZOFFSETTO:+0200
TZNAME:CEST
DTSTART:20250330T010000
END:DAYLIGHT
BEGIN:STANDARD
TZOFFSETFROM:+0200
TZOFFSETTO:+0100
TZNAME:CET
DTSTART:20251026T010000
END:STANDARD
END:VTIMEZONE
BEGIN:VEVENT
DTSTART;VALUE=DATE:20240520
DTEND;VALUE=DATE:20240521
DTSTAMP:20260421T074615
CREATED:20240515T103854Z
LAST-MODIFIED:20240520T074222Z
UID:72181-1716163200-1716249599@www.isf.es
SUMMARY:Curso Online: Ingeniería aplicada al Desarrollo Humano
DESCRIPTION:Abierta la inscripción para la tercera edición del curso online gratuito «Ingeniería Aplicada al Desarrollo Humano» destinado a estudiantes y profesionales de ingeniería y arquitectura que desean conocer los Objetivos de Desarrollo Sostenible y cómo pueden contribuir a su alcance desde su ámbito profesional. \nAl finalizar este curso: \n\nConocerás los ODS\, cómo están interconectados y los principales desafíos para alcanzarlos.\nSerás capaz de evaluar la actual estrategia de tu organización hacia la Agenda 2030 y definir un plan para maximizar vuestra contribución a los ODS.\n\nCurso financiado por el Gobierno de Cantabria y dirigido por Ingeniería Sin Fronteras Cantabria \nDel 20 de mayo al 30 de junio (duración aproximada 12 horas) -> A completar en 6 semanas \nInscripciones
URL:https://www.isf.es/event/curso-online-ingenieria/
LOCATION:Online
ATTACH;FMTTYPE=image/jpeg:https://www.isf.es/wp-content/uploads/2024/05/Poster_Tercera-Edicion.jpg
END:VEVENT
END:VCALENDAR