BEGIN:VCALENDAR
VERSION:2.0
PRODID:-//Ingeniería Sin Fronteras - ECPv6.15.20//NONSGML v1.0//EN
CALSCALE:GREGORIAN
METHOD:PUBLISH
X-WR-CALNAME:Ingeniería Sin Fronteras
X-ORIGINAL-URL:https://www.isf.es
X-WR-CALDESC:Eventos para Ingeniería Sin Fronteras
REFRESH-INTERVAL;VALUE=DURATION:PT1H
X-Robots-Tag:noindex
X-PUBLISHED-TTL:PT1H
BEGIN:VTIMEZONE
TZID:Europe/Madrid
BEGIN:DAYLIGHT
TZOFFSETFROM:+0100
TZOFFSETTO:+0200
TZNAME:CEST
DTSTART:20230326T010000
END:DAYLIGHT
BEGIN:STANDARD
TZOFFSETFROM:+0200
TZOFFSETTO:+0100
TZNAME:CET
DTSTART:20231029T010000
END:STANDARD
BEGIN:DAYLIGHT
TZOFFSETFROM:+0100
TZOFFSETTO:+0200
TZNAME:CEST
DTSTART:20240331T010000
END:DAYLIGHT
BEGIN:STANDARD
TZOFFSETFROM:+0200
TZOFFSETTO:+0100
TZNAME:CET
DTSTART:20241027T010000
END:STANDARD
BEGIN:DAYLIGHT
TZOFFSETFROM:+0100
TZOFFSETTO:+0200
TZNAME:CEST
DTSTART:20250330T010000
END:DAYLIGHT
BEGIN:STANDARD
TZOFFSETFROM:+0200
TZOFFSETTO:+0100
TZNAME:CET
DTSTART:20251026T010000
END:STANDARD
END:VTIMEZONE
BEGIN:VEVENT
DTSTART;TZID=Europe/Madrid:20240421T110000
DTEND;TZID=Europe/Madrid:20240421T110000
DTSTAMP:20260421T072343
CREATED:20240417T073334Z
LAST-MODIFIED:20240422T090042Z
UID:72084-1713697200-1713697200@www.isf.es
SUMMARY: ¡Salta de la Pobreza Energética a la Resiliencia Energética!
DESCRIPTION:En la próxima escuela de activistas os presentamos una colaboración\, ¡y para eso vamos a Amorebieta! De la mano de Besue y ISF hemos preparado un taller para romper conLa entrada  ¡Salta de la Pobreza Energética a la Resiliencia Energética! aparece primero en Ingeniería Sin Fronteras Euskadi – ISF Euskadi. \nNoticia completa en la web Ingeniería Sin Fronteras Euskadi – ISF Euskadi: Leer más
URL:https://www.isf.es/event/salta-de-la-pobreza-energetica-a-la-resiliencia-energetica/
LOCATION:Besue (Amorebieta)
ATTACH;FMTTYPE=image/png:https://www.isf.es/wp-content/uploads/2024/04/MGI-Besue-dszxJY.png
END:VEVENT
END:VCALENDAR