BEGIN:VCALENDAR
VERSION:2.0
PRODID:-//Ingeniería Sin Fronteras - ECPv6.15.20//NONSGML v1.0//EN
CALSCALE:GREGORIAN
METHOD:PUBLISH
X-ORIGINAL-URL:https://www.isf.es
X-WR-CALDESC:Eventos para Ingeniería Sin Fronteras
REFRESH-INTERVAL;VALUE=DURATION:PT1H
X-Robots-Tag:noindex
X-PUBLISHED-TTL:PT1H
BEGIN:VTIMEZONE
TZID:Europe/Madrid
BEGIN:DAYLIGHT
TZOFFSETFROM:+0100
TZOFFSETTO:+0200
TZNAME:CEST
DTSTART:20220327T010000
END:DAYLIGHT
BEGIN:STANDARD
TZOFFSETFROM:+0200
TZOFFSETTO:+0100
TZNAME:CET
DTSTART:20221030T010000
END:STANDARD
BEGIN:DAYLIGHT
TZOFFSETFROM:+0100
TZOFFSETTO:+0200
TZNAME:CEST
DTSTART:20230326T010000
END:DAYLIGHT
BEGIN:STANDARD
TZOFFSETFROM:+0200
TZOFFSETTO:+0100
TZNAME:CET
DTSTART:20231029T010000
END:STANDARD
BEGIN:DAYLIGHT
TZOFFSETFROM:+0100
TZOFFSETTO:+0200
TZNAME:CEST
DTSTART:20240331T010000
END:DAYLIGHT
BEGIN:STANDARD
TZOFFSETFROM:+0200
TZOFFSETTO:+0100
TZNAME:CET
DTSTART:20241027T010000
END:STANDARD
END:VTIMEZONE
BEGIN:VEVENT
DTSTART;VALUE=DATE:20230313
DTEND;VALUE=DATE:20230402
DTSTAMP:20260420T212306
CREATED:20230313T170000Z
LAST-MODIFIED:20230315T110957Z
UID:71108-1678665600-1680393599@www.isf.es
SUMMARY:Compartiendo saberes: Herramientas de acción comunitaria para avivar la participación ambiental
DESCRIPTION:Lunes 13\, 20 y 27 de marzo y Sábado 1 de abril Queremos aprender de manera colectiva compartiendo saberes y experiencias sobre cómo motivar a más y más gente para\nLa entrada Compartiendo saberes: Herramientas de acción comunitaria para avivar la participación ambiental aparece primero en ISF Andalucia. \nEvento completo en la web Próximos Eventos – ISF Andalucia: Leer más
URL:https://www.isf.es/event/compartiendo-saberes-herramientas-de-accion-comunitaria-para-avivar-la-participacion-ambiental/
LOCATION:Varios espacios (Cordoba)
ATTACH;FMTTYPE=image/jpeg:https://www.isf.es/wp-content/uploads/2023/03/230313-Cartel-encuentro-WvTNoD.jpeg
END:VEVENT
BEGIN:VEVENT
DTSTART;TZID=Europe/Madrid:20230401T110000
DTEND;TZID=Europe/Madrid:20230401T140000
DTSTAMP:20260420T212306
CREATED:20230323T075443Z
LAST-MODIFIED:20230327T110951Z
UID:71197-1680346800-1680357600@www.isf.es
SUMMARY:Repair Café
DESCRIPTION:Estamos de vuelta!!! El sábado 1 de abril (de 11 a 14h) seguimos con nuestra lucha constante contra la obsolescencia programada\, armadas con nuestros alicates\, tornillos y ganas de aprender a reparar. Trae al Conseyu de la Mocedá de Xixón (CMX) esos cacharros que ibas a tirar para comprarte otros nuevos o esa ropa queLa entrada Próximo Repair Café: sábado 1 de abril en Gijón aparece primero en ISF Asturias. \nNoticia completa en la web ISF Asturias: Leer más
URL:https://www.isf.es/event/proximo-repair-cafe-sabado-1-de-abril-en-gijon/
LOCATION:Conseyu de la Mocedá de Xixón
ATTACH;FMTTYPE=image/jpeg:https://www.isf.es/wp-content/uploads/2023/03/WhatsApp-Image-2023-03-18-at-21.08.33-zCvRpR.jpeg
END:VEVENT
END:VCALENDAR